Index of /checkResults/release/bioc-LATEST/RMassBank/raw-results/machv2

[ICO]NameLast modifiedSizeDescription

[DIR]Parent Directory  -  
[TXT]buildbin-out.txt02-Dec-2021 07:18 1.2K 
[   ]buildbin-summary.dcf02-Dec-2021 07:18 539  
[TXT]buildsrc-out.txt02-Dec-2021 07:18 823  
[   ]buildsrc-summary.dcf02-Dec-2021 07:18 432  
[TXT]checksrc-out.txt02-Dec-2021 07:18 18K 
[   ]checksrc-summary.dcf02-Dec-2021 07:18 456  
[TXT]install-out.txt02-Dec-2021 07:18 1.0K 
[   ]install-summary.dcf02-Dec-2021 07:18 272