Index of /checkResults/release/bioc-LATEST/RLSeq/raw-results/lconway
Name
Last modified
Size
Description
Parent Directory
-
buildsrc-out.txt
05-May-2024 00:39
1.2K
buildsrc-summary.dcf
05-May-2024 00:39
340
install-out.txt
05-May-2024 00:39
1.2K
install-summary.dcf
05-May-2024 00:39
265