Name | Last modified | Size | Description | |
---|---|---|---|---|
Parent Directory | - | |||
buildsrc-out.txt | 15-Jun-2024 03:37 | 794 | ||
buildsrc-summary.dcf | 15-Jun-2024 03:37 | 405 | ||
checksrc-out.txt | 15-Jun-2024 03:37 | 3.1K | ||
checksrc-summary.dcf | 15-Jun-2024 03:37 | 401 | ||
install-out.txt | 15-Jun-2024 03:37 | 935 | ||
install-summary.dcf | 15-Jun-2024 03:37 | 252 | ||