Name | Last modified | Size | Description | |
---|---|---|---|---|
Parent Directory | - | |||
checksrc-out.txt | 12-Jun-2024 03:44 | 3.2K | ||
buildbin-out.txt | 12-Jun-2024 03:44 | 1.1K | ||
install-out.txt | 12-Jun-2024 03:44 | 969 | ||
buildsrc-out.txt | 12-Jun-2024 03:44 | 804 | ||
buildbin-summary.dcf | 12-Jun-2024 03:44 | 511 | ||
checksrc-summary.dcf | 12-Jun-2024 03:44 | 431 | ||
buildsrc-summary.dcf | 12-Jun-2024 03:44 | 418 | ||
install-summary.dcf | 12-Jun-2024 03:44 | 262 | ||