Index of /checkResults/release/bioc-LATEST/RESOLVE/raw-results/lconway

[ICO]NameLast modifiedSizeDescription

[DIR]Parent Directory  -  
[TXT]buildbin-out.txt31-May-2024 00:35 1.1K 
[   ]buildbin-summary.dcf31-May-2024 00:35 527  
[TXT]buildsrc-out.txt31-May-2024 00:35 878  
[   ]buildsrc-summary.dcf31-May-2024 00:35 425  
[TXT]checksrc-out.txt31-May-2024 00:35 3.8K 
[   ]checksrc-summary.dcf31-May-2024 00:35 442  
[TXT]install-out.txt31-May-2024 00:35 1.0K 
[   ]install-summary.dcf31-May-2024 00:35 268