Back to Multiple platform build/check report for BioC 3.14
ABCDEFGHIJKLMNOPQ[R]STUVWXYZ

This page was generated on 2021-11-29 15:05:36 -0500 (Mon, 29 Nov 2021).

INSTALL results for REMP on tokay2

To the developers/maintainers of the REMP package:
- Please allow up to 24 hours (and sometimes 48 hours) for your latest push to git@git.bioconductor.org:packages/REMP.git to
reflect on this report. See How and When does the builder pull? When will my changes propagate? here for more information.
- Make sure to use the following settings in order to reproduce any error or warning you see on this page.

raw results

Package 1577/2083HostnameOS / ArchINSTALLBUILDCHECKBUILD BIN
REMP 1.18.0  (landing page)
Yinan Zheng
Snapshot Date: 2021-11-28 04:15:06 -0500 (Sun, 28 Nov 2021)
git_url: https://git.bioconductor.org/packages/REMP
git_branch: RELEASE_3_14
git_last_commit: 3164bd7
git_last_commit_date: 2021-10-26 12:32:57 -0500 (Tue, 26 Oct 2021)
nebbiolo2Linux (Ubuntu 20.04.3 LTS) / x86_64  OK    OK    OK  UNNEEDED, same version is already published
tokay2Windows Server 2012 R2 Standard / x64  OK    OK    OK    OK  UNNEEDED, same version is already published
machv2macOS 10.14.6 Mojave / x86_64  OK    OK    OK    OK  UNNEEDED, same version is already published

Summary

Package: REMP
Version: 1.18.0
Command: C:\cygwin\bin\curl.exe -O http://155.52.207.166/BBS/3.14/bioc/src/contrib/REMP_1.18.0.tar.gz && rm -rf REMP.buildbin-libdir && mkdir REMP.buildbin-libdir && C:\Users\biocbuild\bbs-3.14-bioc\R\bin\R.exe CMD INSTALL --merge-multiarch --build --library=REMP.buildbin-libdir REMP_1.18.0.tar.gz && C:\Users\biocbuild\bbs-3.14-bioc\R\bin\R.exe CMD INSTALL REMP_1.18.0.zip && rm REMP_1.18.0.tar.gz REMP_1.18.0.zip
StartedAt: 2021-11-28 09:44:51 -0500 (Sun, 28 Nov 2021)
EndedAt: 2021-11-28 09:46:39 -0500 (Sun, 28 Nov 2021)
EllapsedTime: 108.1 seconds
RetCode: 0
Status:   OK  

Command output

##############################################################################
##############################################################################
###
### Running command:
###
###   C:\cygwin\bin\curl.exe -O http://155.52.207.166/BBS/3.14/bioc/src/contrib/REMP_1.18.0.tar.gz && rm -rf REMP.buildbin-libdir && mkdir REMP.buildbin-libdir && C:\Users\biocbuild\bbs-3.14-bioc\R\bin\R.exe CMD INSTALL --merge-multiarch --build --library=REMP.buildbin-libdir REMP_1.18.0.tar.gz && C:\Users\biocbuild\bbs-3.14-bioc\R\bin\R.exe CMD INSTALL REMP_1.18.0.zip && rm REMP_1.18.0.tar.gz REMP_1.18.0.zip
###
##############################################################################
##############################################################################


  % Total    % Received % Xferd  Average Speed   Time    Time     Time  Current
                                 Dload  Upload   Total   Spent    Left  Speed

  0     0    0     0    0     0      0      0 --:--:-- --:--:-- --:--:--     0
100 78082  100 78082    0     0   503k      0 --:--:-- --:--:-- --:--:--  508k

install for i386

* installing *source* package 'REMP' ...
** using staged installation
** R
** data
*** moving datasets to lazyload DB
** inst
** byte-compile and prepare package for lazy loading
** help
*** installing help indices
  converting help for package 'REMP'
    finding HTML links ... done
    Alu.hg19.demo                           html  
    finding level-2 HTML links ... done

    Alu.hg38.demo                           html  
    GRannot                                 html  
    REMP-package                            html  
    REMParcel-class                         html  
    REMProduct-class                        html  
    fetchRMSK                               html  
    fetchRefSeqGene                         html  
    findRECpG                               html  
    getBackend                              html  
    getGM12878                              html  
    grooMethy                               html  
    initREMP                                html  
    options                                 html  
    remp                                    html  
REDIRECT:topic	 Previous alias or file overwritten by alias: C:/Users/biocbuild/bbs-3.14-bioc/meat/REMP.buildbin-libdir/00LOCK-REMP/00new/REMP/help/remp.html
    rempTemplate                            html  
    remprofile                              html  
** building package indices
** installing vignettes
** testing if installed package can be loaded from temporary location
** testing if installed package can be loaded from final location
** testing if installed package keeps a record of temporary installation path

install for x64

* installing *source* package 'REMP' ...
** testing if installed package can be loaded
* MD5 sums
packaged installation of 'REMP' as REMP_1.18.0.zip
* DONE (REMP)
* installing to library 'C:/Users/biocbuild/bbs-3.14-bioc/R/library'
package 'REMP' successfully unpacked and MD5 sums checked