Index of /checkResults/release/bioc-LATEST/REMP/raw-results/palomino3

[ICO]NameLast modifiedSizeDescription

[DIR]Parent Directory  -  
[TXT]buildbin-out.txt02-Jul-2022 01:07 1.1K 
[   ]buildbin-summary.dcf02-Jul-2022 01:07 495  
[TXT]buildsrc-out.txt02-Jul-2022 01:07 824  
[   ]buildsrc-summary.dcf02-Jul-2022 01:07 441  
[TXT]checksrc-out.txt02-Jul-2022 01:07 4.3K 
[   ]checksrc-summary.dcf02-Jul-2022 01:07 436  
[TXT]install-out.txt02-Jul-2022 01:07 1.0K 
[   ]install-summary.dcf02-Jul-2022 01:07 262