Name | Last modified | Size | Description | |
---|---|---|---|---|
Parent Directory | - | |||
buildsrc-out.txt | 08-May-2024 00:37 | 794 | ||
buildsrc-summary.dcf | 08-May-2024 00:37 | 409 | ||
checksrc-out.txt | 08-May-2024 00:37 | 4.5K | ||
checksrc-summary.dcf | 08-May-2024 00:37 | 402 | ||
install-out.txt | 08-May-2024 00:37 | 1.0K | ||
install-summary.dcf | 08-May-2024 00:37 | 253 | ||