Name | Last modified | Size | Description | |
---|---|---|---|---|
Parent Directory | - | |||
install-out.txt | 24-Jul-2024 22:05 | 1.3K | ||
install-summary.dcf | 24-Jul-2024 22:05 | 262 | ||
buildsrc-out.txt | 24-Jul-2024 22:05 | 1.1K | ||
buildsrc-summary.dcf | 24-Jul-2024 22:05 | 440 | ||
checksrc-out.txt | 24-Jul-2024 22:05 | 4.2K | ||
checksrc-summary.dcf | 24-Jul-2024 22:05 | 435 | ||
buildbin-out.txt | 24-Jul-2024 22:05 | 1.4K | ||
buildbin-summary.dcf | 24-Jul-2024 22:05 | 497 | ||