Name | Last modified | Size | Description | |
---|---|---|---|---|
Parent Directory | - | |||
install-summary.dcf | 29-Jun-2024 06:42 | 262 | ||
install-out.txt | 29-Jun-2024 06:42 | 1.3K | ||
checksrc-summary.dcf | 29-Jun-2024 06:42 | 435 | ||
checksrc-out.txt | 29-Jun-2024 06:42 | 4.1K | ||
buildsrc-summary.dcf | 29-Jun-2024 06:42 | 440 | ||
buildsrc-out.txt | 29-Jun-2024 06:42 | 1.1K | ||
buildbin-summary.dcf | 29-Jun-2024 06:42 | 497 | ||
buildbin-out.txt | 29-Jun-2024 06:42 | 1.4K | ||