Name | Last modified | Size | Description | |
---|---|---|---|---|
Parent Directory | - | |||
checksrc-out.txt | 27-Jul-2024 06:39 | 3.5K | ||
buildbin-out.txt | 27-Jul-2024 06:39 | 1.0K | ||
install-out.txt | 27-Jul-2024 06:39 | 950 | ||
buildsrc-out.txt | 27-Jul-2024 06:39 | 879 | ||
buildbin-summary.dcf | 27-Jul-2024 06:39 | 490 | ||
buildsrc-summary.dcf | 27-Jul-2024 06:39 | 436 | ||
checksrc-summary.dcf | 27-Jul-2024 06:39 | 430 | ||
install-summary.dcf | 27-Jul-2024 06:39 | 259 | ||