Name | Last modified | Size | Description | |
---|---|---|---|---|
Parent Directory | - | |||
buildbin-summary.dcf | 29-Jun-2024 06:42 | 491 | ||
buildbin-out.txt | 29-Jun-2024 06:42 | 1.0K | ||
checksrc-summary.dcf | 29-Jun-2024 06:42 | 430 | ||
checksrc-out.txt | 29-Jun-2024 06:42 | 3.5K | ||
buildsrc-summary.dcf | 29-Jun-2024 06:42 | 436 | ||
buildsrc-out.txt | 29-Jun-2024 06:42 | 879 | ||
install-summary.dcf | 29-Jun-2024 06:42 | 260 | ||
install-out.txt | 29-Jun-2024 06:42 | 950 | ||