Name | Last modified | Size | Description | |
---|---|---|---|---|
Parent Directory | - | |||
install-summary.dcf | 12-Jun-2024 03:42 | 261 | ||
install-out.txt | 12-Jun-2024 03:42 | 1.0K | ||
checksrc-summary.dcf | 12-Jun-2024 03:42 | 427 | ||
checksrc-out.txt | 12-Jun-2024 03:42 | 3.6K | ||
buildsrc-summary.dcf | 12-Jun-2024 03:42 | 415 | ||
buildsrc-out.txt | 12-Jun-2024 03:42 | 863 | ||
buildbin-summary.dcf | 12-Jun-2024 03:42 | 505 | ||
buildbin-out.txt | 12-Jun-2024 03:42 | 1.1K | ||