Name | Last modified | Size | Description | |
---|---|---|---|---|
Parent Directory | - | |||
install-summary.dcf | 12-Jun-2024 03:44 | 264 | ||
install-out.txt | 12-Jun-2024 03:44 | 14K | ||
buildsrc-out.txt | 12-Jun-2024 03:44 | 897 | ||
buildsrc-summary.dcf | 12-Jun-2024 03:44 | 418 | ||
checksrc-summary.dcf | 12-Jun-2024 03:44 | 431 | ||
checksrc-out.txt | 12-Jun-2024 03:44 | 4.4K | ||
buildbin-out.txt | 12-Jun-2024 03:44 | 16K | ||
buildbin-summary.dcf | 12-Jun-2024 03:44 | 513 | ||