Back to Multiple platform build/check report for BioC 3.14
ABCDEFGHIJKLMNOPQ[R]STUVWXYZ

This page was generated on 2022-01-24 13:06:49 -0500 (Mon, 24 Jan 2022).

HostnameOSArch (*)R versionInstalled pkgs
nebbiolo2Linux (Ubuntu 20.04.4 LTS)x86_644.1.2 (2021-11-01) -- "Bird Hippie" 4329
tokay2Windows Server 2012 R2 Standardx644.1.2 (2021-11-01) -- "Bird Hippie" 4080
machv2macOS 10.14.6 Mojavex86_644.1.2 (2021-11-01) -- "Bird Hippie" 4141
Click on any hostname to see more info about the system (e.g. compilers)      (*) as reported by 'uname -p', except on Windows and Mac OS X

CHECK results for R4RNA on tokay2


To the developers/maintainers of the R4RNA package:
- Please allow up to 24 hours (and sometimes 48 hours) for your latest push to git@git.bioconductor.org:packages/R4RNA.git to
reflect on this report. See How and When does the builder pull? When will my changes propagate? here for more information.
- Make sure to use the following settings in order to reproduce any error or warning you see on this page.

raw results

Package 1518/2083HostnameOS / ArchINSTALLBUILDCHECKBUILD BIN
R4RNA 1.22.0  (landing page)
Daniel Lai
Snapshot Date: 2022-01-23 01:55:04 -0500 (Sun, 23 Jan 2022)
git_url: https://git.bioconductor.org/packages/R4RNA
git_branch: RELEASE_3_14
git_last_commit: a797ad8
git_last_commit_date: 2021-10-26 12:23:41 -0500 (Tue, 26 Oct 2021)
nebbiolo2Linux (Ubuntu 20.04.4 LTS) / x86_64  OK    OK    OK  UNNEEDED, same version is already published
tokay2Windows Server 2012 R2 Standard / x64  OK    OK    OK    OK  UNNEEDED, same version is already published
machv2macOS 10.14.6 Mojave / x86_64  OK    OK    OK    OK  UNNEEDED, same version is already published

Summary

Package: R4RNA
Version: 1.22.0
Command: C:\Users\biocbuild\bbs-3.14-bioc\R\bin\R.exe CMD check --force-multiarch --install=check:R4RNA.install-out.txt --library=C:\Users\biocbuild\bbs-3.14-bioc\R\library --no-vignettes --timings R4RNA_1.22.0.tar.gz
StartedAt: 2022-01-24 00:45:24 -0500 (Mon, 24 Jan 2022)
EndedAt: 2022-01-24 00:47:21 -0500 (Mon, 24 Jan 2022)
EllapsedTime: 116.7 seconds
RetCode: 0
Status:   OK  
CheckDir: R4RNA.Rcheck
Warnings: 0

Command output

##############################################################################
##############################################################################
###
### Running command:
###
###   C:\Users\biocbuild\bbs-3.14-bioc\R\bin\R.exe CMD check --force-multiarch --install=check:R4RNA.install-out.txt --library=C:\Users\biocbuild\bbs-3.14-bioc\R\library --no-vignettes --timings R4RNA_1.22.0.tar.gz
###
##############################################################################
##############################################################################


* using log directory 'C:/Users/biocbuild/bbs-3.14-bioc/meat/R4RNA.Rcheck'
* using R version 4.1.2 (2021-11-01)
* using platform: x86_64-w64-mingw32 (64-bit)
* using session charset: ISO8859-1
* using option '--no-vignettes'
* checking for file 'R4RNA/DESCRIPTION' ... OK
* checking extension type ... Package
* this is package 'R4RNA' version '1.22.0'
* checking package namespace information ... OK
* checking package dependencies ... OK
* checking if this is a source package ... OK
* checking if there is a namespace ... OK
* checking for hidden files and directories ... OK
* checking for portable file names ... OK
* checking whether package 'R4RNA' can be installed ... OK
* checking installed package size ... OK
* checking package directory ... OK
* checking 'build' directory ... OK
* checking DESCRIPTION meta-information ... OK
* checking top-level files ... OK
* checking for left-over files ... OK
* checking index information ... OK
* checking package subdirectories ... OK
* checking R files for non-ASCII characters ... OK
* checking R files for syntax errors ... OK
* loading checks for arch 'i386'
** checking whether the package can be loaded ... OK
** checking whether the package can be loaded with stated dependencies ... OK
** checking whether the package can be unloaded cleanly ... OK
** checking whether the namespace can be loaded with stated dependencies ... OK
** checking whether the namespace can be unloaded cleanly ... OK
* loading checks for arch 'x64'
** checking whether the package can be loaded ... OK
** checking whether the package can be loaded with stated dependencies ... OK
** checking whether the package can be unloaded cleanly ... OK
** checking whether the namespace can be loaded with stated dependencies ... OK
** checking whether the namespace can be unloaded cleanly ... OK
* checking dependencies in R code ... OK
* checking S3 generic/method consistency ... OK
* checking replacement functions ... OK
* checking foreign function calls ... OK
* checking R code for possible problems ... NOTE
alignmentCanonical: no visible global function definition for 'is'
alignmentConservation: no visible global function definition for 'is'
alignmentCovariation: no visible global function definition for 'is'
alignmentPercentGaps: no visible global function definition for 'is'
arc: no visible global function definition for 'lines'
baseConservation: no visible global function definition for 'is'
basepairCanonical: no visible global function definition for 'is'
basepairConservation: no visible global function definition for 'is'
basepairCovariation: no visible global function definition for 'is'
blankPlot: no visible global function definition for 'par'
blankPlot: no visible global function definition for 'abline'
colourByCanonical: no visible global function definition for 'is'
colourByConservation: no visible global function definition for 'is'
colourByCovariation: no visible global function definition for 'is'
getBaseColours: no visible global function definition for 'is'
getCovarianceColours: no visible global function definition for 'is'
getSequenceColour: no visible global function definition for 'is'
helixCanonical: no visible global function definition for 'is'
helixConservation: no visible global function definition for 'is'
helixCovariation: no visible global function definition for 'is'
isConflictingHelix: no visible global function definition for
  'aggregate'
isDuplicatingHelix: no visible global function definition for
  'aggregate'
isOverlappingHelix: no visible global function definition for
  'aggregate'
plotArc: no visible global function definition for 'lines'
plotArrow: no visible global function definition for 'polygon'
plotCovariance: no visible global function definition for 'is'
plotCovarianceGrid: no visible global function definition for 'rect'
plotCovarianceLine: no visible global function definition for
  'segments'
plotDoubleCovariance: no visible global function definition for 'is'
plotDoubleHelix: no visible global function definition for 'lines'
plotHelix: no visible global function definition for 'lines'
plotOverlapCovariance: no visible global function definition for 'is'
plotOverlapHelix: no visible global function definition for 'lines'
plotScale: no visible global function definition for 'strheight'
plotScale: no visible global function definition for 'segments'
plotScale: no visible global function definition for 'text'
readConnect: no visible global function definition for 'read.delim'
readHelix: no visible global function definition for 'read.delim'
structureMismatchScore: no visible global function definition for 'is'
writeHelix: no visible global function definition for 'write.table'
Undefined global functions or variables:
  abline aggregate is lines par polygon read.delim rect segments
  strheight text write.table
Consider adding
  importFrom("graphics", "abline", "lines", "par", "polygon", "rect",
             "segments", "strheight", "text")
  importFrom("methods", "is")
  importFrom("stats", "aggregate")
  importFrom("utils", "read.delim", "write.table")
to your NAMESPACE file (and ensure that your DESCRIPTION Imports field
contains 'methods').
* checking Rd files ... OK
* checking Rd metadata ... OK
* checking Rd cross-references ... OK
* checking for missing documentation entries ... OK
* checking for code/documentation mismatches ... OK
* checking Rd \usage sections ... OK
* checking Rd contents ... OK
* checking for unstated dependencies in examples ... OK
* checking contents of 'data' directory ... OK
* checking data for non-ASCII characters ... OK
* checking data for ASCII and uncompressed saves ... OK
* checking files in 'vignettes' ... OK
* checking examples ...
** running examples for arch 'i386' ... OK
** running examples for arch 'x64' ... OK
* checking for unstated dependencies in vignettes ... OK
* checking package vignettes in 'inst/doc' ... OK
* checking running R code from vignettes ... SKIPPED
* checking re-building of vignette outputs ... SKIPPED
* checking PDF version of manual ... OK
* DONE

Status: 1 NOTE
See
  'C:/Users/biocbuild/bbs-3.14-bioc/meat/R4RNA.Rcheck/00check.log'
for details.



Installation output

R4RNA.Rcheck/00install.out

##############################################################################
##############################################################################
###
### Running command:
###
###   C:\cygwin\bin\curl.exe -O http://155.52.207.166/BBS/3.14/bioc/src/contrib/R4RNA_1.22.0.tar.gz && rm -rf R4RNA.buildbin-libdir && mkdir R4RNA.buildbin-libdir && C:\Users\biocbuild\bbs-3.14-bioc\R\bin\R.exe CMD INSTALL --merge-multiarch --build --library=R4RNA.buildbin-libdir R4RNA_1.22.0.tar.gz && C:\Users\biocbuild\bbs-3.14-bioc\R\bin\R.exe CMD INSTALL R4RNA_1.22.0.zip && rm R4RNA_1.22.0.tar.gz R4RNA_1.22.0.zip
###
##############################################################################
##############################################################################


  % Total    % Received % Xferd  Average Speed   Time    Time     Time  Current
                                 Dload  Upload   Total   Spent    Left  Speed

  0     0    0     0    0     0      0      0 --:--:-- --:--:-- --:--:--     0
100 37589  100 37589    0     0   319k      0 --:--:-- --:--:-- --:--:--  322k

install for i386

* installing *source* package 'R4RNA' ...
** using staged installation
** R
** data
** inst
** byte-compile and prepare package for lazy loading
** help
*** installing help indices
  converting help for package 'R4RNA'
    finding HTML links ... done
    R4RNA-package                           html  
    alignmentStatistics                     html  
    as.helix                                html  
    basepairFrequency                       html  
    blankPlot                               html  
    colourHelices                           html  
    expandCollapseHelix                     html  
    helix                                   html  
    logicalHelix                            html  
    logseq                                  html  
    plotCovariance                          html  
    plotHelix                               html  
    readStructure                           html  
    structureMismatchScore                  html  
    unknottedGroups                         html  
    viennaToHelix                           html  
    writeHelix                              html  
** building package indices
** installing vignettes
** testing if installed package can be loaded from temporary location
** testing if installed package can be loaded from final location
** testing if installed package keeps a record of temporary installation path

install for x64

* installing *source* package 'R4RNA' ...
** testing if installed package can be loaded
* MD5 sums
packaged installation of 'R4RNA' as R4RNA_1.22.0.zip
* DONE (R4RNA)
* installing to library 'C:/Users/biocbuild/bbs-3.14-bioc/R/library'
package 'R4RNA' successfully unpacked and MD5 sums checked

Tests output


Example timings

R4RNA.Rcheck/examples_i386/R4RNA-Ex.timings

nameusersystemelapsed
R4RNA-package1.450.031.48
alignmentStatistics0.360.020.38
as.helix000
basepairFrequency0.010.000.02
blankPlot0.060.000.06
colourHelices0.320.000.31
expandCollapseHelix0.010.000.02
logicalHelix0.600.010.61
logseq000
plotCovariance0.670.020.69
plotHelix0.790.020.81
readStructure0.040.000.03
structureMismatchScore0.010.000.02
unknottedGroups0.030.000.03
viennaToHelix0.130.000.12
writeHelix000

R4RNA.Rcheck/examples_x64/R4RNA-Ex.timings

nameusersystemelapsed
R4RNA-package1.340.031.40
alignmentStatistics0.600.020.60
as.helix000
basepairFrequency0.000.010.02
blankPlot0.060.020.07
colourHelices0.350.010.36
expandCollapseHelix0.010.000.02
logicalHelix0.570.000.56
logseq000
plotCovariance0.570.020.60
plotHelix0.790.020.79
readStructure0.030.000.03
structureMismatchScore0.010.000.02
unknottedGroups0.020.000.01
viennaToHelix0.060.000.07
writeHelix000