Name | Last modified | Size | Description | |
---|---|---|---|---|
Parent Directory | - | |||
install-out.txt | 24-Jul-2024 22:05 | 965 | ||
install-summary.dcf | 24-Jul-2024 22:05 | 264 | ||
buildsrc-summary.dcf | 24-Jul-2024 22:05 | 444 | ||
buildsrc-out.txt | 24-Jul-2024 22:05 | 889 | ||
checksrc-summary.dcf | 24-Jul-2024 22:05 | 438 | ||
checksrc-out.txt | 24-Jul-2024 22:05 | 6.6K | ||
buildbin-out.txt | 24-Jul-2024 22:05 | 1.1K | ||
buildbin-summary.dcf | 24-Jul-2024 22:05 | 503 | ||