Name | Last modified | Size | Description | |
---|---|---|---|---|
Parent Directory | - | |||
buildbin-summary.dcf | 12-Jun-2024 03:44 | 584 | ||
buildbin-out.txt | 12-Jun-2024 03:44 | 4.2K | ||
checksrc-out.txt | 12-Jun-2024 03:44 | 5.4K | ||
checksrc-summary.dcf | 12-Jun-2024 03:44 | 480 | ||
buildsrc-summary.dcf | 12-Jun-2024 03:44 | 455 | ||
buildsrc-out.txt | 12-Jun-2024 03:44 | 945 | ||
install-summary.dcf | 12-Jun-2024 03:44 | 288 | ||
install-out.txt | 12-Jun-2024 03:44 | 2.1K | ||