Index of /checkResults/release/bioc-LATEST/R3CPET/raw-results
Name
Last modified
Size
Description
Parent Directory
-
merida1/
17-Jan-2024 03:19
-
kunpeng2/
10-May-2024 00:41
-
palomino3/
23-May-2024 00:36
-
info.dcf
01-Jun-2024 06:02
278
nebbiolo1/
01-Jun-2024 06:03
-