Name | Last modified | Size | Description | |
---|---|---|---|---|
Parent Directory | - | |||
buildbin-out.txt | 05-Mar-2024 01:39 | 4.7K | ||
buildbin-summary.dcf | 05-Mar-2024 01:39 | 572 | ||
buildsrc-out.txt | 05-Mar-2024 01:39 | 914 | ||
buildsrc-summary.dcf | 05-Mar-2024 01:39 | 449 | ||
checksrc-out.txt | 05-Mar-2024 01:39 | 3.8K | ||
checksrc-summary.dcf | 05-Mar-2024 01:39 | 472 | ||
install-out.txt | 05-Mar-2024 01:39 | 2.5K | ||
install-summary.dcf | 05-Mar-2024 01:39 | 283 | ||