Back to Multiple platform build/check report for BioC 3.12
ABCDEFGHIJKLMNOP[Q]RSTUVWXYZ

Multiple platform build/check report for BioC 3.12

Results for QSutils

This page was generated on 2021-01-15 11:52:22 -0500 (Fri, 15 Jan 2021).

Package 1431/1974HostnameOS / ArchINSTALLBUILDCHECKBUILD BIN
QSutils 1.8.0
Mercedes Guerrero-Murillo
Snapshot Date: 2021-01-14 14:42:34 -0500 (Thu, 14 Jan 2021)
URL: https://git.bioconductor.org/packages/QSutils
Branch: RELEASE_3_12
Last Commit: fc24f54
Last Changed Date: 2020-10-27 11:39:52 -0500 (Tue, 27 Oct 2020)
malbec1 Linux (Ubuntu 18.04.5 LTS) / x86_64  OK  OK  OK UNNEEDED, same version exists in internal repository
nebbiolo1 Linux (Ubuntu 20.04.1 LTS) / x86_64  OK  OK  OK 
tokay1 Windows Server 2012 R2 Standard / x64  OK  OK  OK  OK UNNEEDED, same version exists in internal repository
merida1 macOS 10.14.6 Mojave / x86_64  OK  OK  OK  OK UNNEEDED, same version exists in internal repository