Name | Last modified | Size | Description | |
---|---|---|---|---|
Parent Directory | - | |||
checksrc-out.txt | 10-May-2024 00:41 | 4.7K | ||
checksrc-summary.dcf | 10-May-2024 00:41 | 463 | ||
buildsrc-summary.dcf | 10-May-2024 00:41 | 435 | ||
buildsrc-out.txt | 10-May-2024 00:41 | 888 | ||
install-summary.dcf | 10-May-2024 00:41 | 274 | ||
install-out.txt | 10-May-2024 00:41 | 1.0K | ||