Index of /checkResults/release/bioc-LATEST/QDNAseq/raw-results

[ICO]NameLast modifiedSizeDescription

[DIR]Parent Directory  -  
[   ]info.dcf27-Nov-2021 05:06 261  
[DIR]machv2/27-Nov-2021 05:06 -  
[DIR]nebbiolo2/27-Nov-2021 05:05 -  
[DIR]tokay2/27-Nov-2021 05:05 -