Index of /checkResults/release/bioc-LATEST/Pviz/raw-results/tokay2

[ICO]NameLast modifiedSizeDescription

[DIR]Parent Directory  -  
[TXT]buildbin-out.txt04-Dec-2021 03:05 1.7K 
[   ]buildbin-summary.dcf04-Dec-2021 03:05 521  
[TXT]buildsrc-out.txt04-Dec-2021 03:05 1.0K 
[   ]buildsrc-summary.dcf04-Dec-2021 03:05 447  
[TXT]checksrc-out.txt04-Dec-2021 03:05 7.0K 
[   ]checksrc-summary.dcf04-Dec-2021 03:05 450  
[TXT]install-out.txt04-Dec-2021 03:05 2.4K 
[   ]install-summary.dcf04-Dec-2021 03:05 613