![]() | Name | Last modified | Size | Description |
---|---|---|---|---|
![]() | Parent Directory | - | ||
![]() | buildsrc-out.txt | 03-Oct-2023 00:35 | 951 | |
![]() | buildsrc-summary.dcf | 03-Oct-2023 00:35 | 409 | |
![]() | checksrc-out.txt | 03-Oct-2023 00:35 | 7.0K | |
![]() | checksrc-summary.dcf | 03-Oct-2023 00:35 | 408 | |
![]() | install-out.txt | 03-Oct-2023 00:35 | 943 | |
![]() | install-summary.dcf | 03-Oct-2023 00:35 | 253 | |