![]() | Name | Last modified | Size | Description |
---|---|---|---|---|
![]() | Parent Directory | - | ||
![]() | buildbin-out.txt | 26-Sep-2023 00:37 | 1.1K | |
![]() | buildbin-summary.dcf | 26-Sep-2023 00:37 | 513 | |
![]() | buildsrc-out.txt | 26-Sep-2023 00:37 | 961 | |
![]() | buildsrc-summary.dcf | 26-Sep-2023 00:37 | 419 | |
![]() | checksrc-out.txt | 26-Sep-2023 00:37 | 7.2K | |
![]() | checksrc-summary.dcf | 26-Sep-2023 00:37 | 438 | |
![]() | install-out.txt | 26-Sep-2023 00:37 | 1.0K | |
![]() | install-summary.dcf | 26-Sep-2023 00:37 | 264 | |