Index of /checkResults/release/bioc-LATEST/Pviz/raw-results/machv2

[ICO]NameLast modifiedSizeDescription

[DIR]Parent Directory  -  
[TXT]buildbin-out.txt02-Dec-2021 07:18 1.1K 
[   ]buildbin-summary.dcf02-Dec-2021 07:18 511  
[TXT]buildsrc-out.txt02-Dec-2021 07:18 961  
[   ]buildsrc-summary.dcf02-Dec-2021 07:18 419  
[TXT]checksrc-out.txt02-Dec-2021 07:18 6.5K 
[   ]checksrc-summary.dcf02-Dec-2021 07:18 432  
[TXT]install-out.txt02-Dec-2021 07:18 1.0K 
[   ]install-summary.dcf02-Dec-2021 07:18 263