Name | Last modified | Size | Description | |
---|---|---|---|---|
Parent Directory | - | |||
buildbin-out.txt | 12-Jun-2024 03:42 | 1.1K | ||
buildbin-summary.dcf | 12-Jun-2024 03:42 | 513 | ||
buildsrc-out.txt | 12-Jun-2024 03:42 | 961 | ||
buildsrc-summary.dcf | 12-Jun-2024 03:42 | 419 | ||
checksrc-out.txt | 12-Jun-2024 03:42 | 7.0K | ||
checksrc-summary.dcf | 12-Jun-2024 03:42 | 438 | ||
install-out.txt | 12-Jun-2024 03:42 | 1.0K | ||
install-summary.dcf | 12-Jun-2024 03:42 | 263 | ||