Index of /checkResults/release/bioc-LATEST/Pviz/raw-results/lconway

[ICO]NameLast modifiedSizeDescription

[DIR]Parent Directory  -  
[TXT]buildbin-out.txt02-Mar-2024 01:38 1.1K 
[   ]buildbin-summary.dcf02-Mar-2024 01:38 513  
[TXT]buildsrc-out.txt02-Mar-2024 01:38 961  
[   ]buildsrc-summary.dcf02-Mar-2024 01:38 419  
[TXT]checksrc-out.txt02-Mar-2024 01:38 7.0K 
[   ]checksrc-summary.dcf02-Mar-2024 01:38 438  
[TXT]install-out.txt02-Mar-2024 01:38 1.0K 
[   ]install-summary.dcf02-Mar-2024 01:38 264