Name | Last modified | Size | Description | |
---|---|---|---|---|
Parent Directory | - | |||
install-summary.dcf | 27-Jul-2024 06:39 | 266 | ||
install-out.txt | 27-Jul-2024 06:39 | 968 | ||
checksrc-summary.dcf | 27-Jul-2024 06:39 | 444 | ||
checksrc-out.txt | 27-Jul-2024 06:39 | 4.1K | ||
buildsrc-summary.dcf | 27-Jul-2024 06:39 | 448 | ||
buildsrc-out.txt | 27-Jul-2024 06:39 | 894 | ||
buildbin-summary.dcf | 27-Jul-2024 06:39 | 509 | ||
buildbin-out.txt | 27-Jul-2024 06:39 | 1.1K | ||