Back to Multiple platform build/check report for BioC 3.14
ABCDEFGHIJKLMNO[P]QRSTUVWXYZ

This page was generated on 2021-12-06 13:05:37 -0500 (Mon, 06 Dec 2021).

INSTALL results for ProteomicsAnnotationHubData on tokay2

To the developers/maintainers of the ProteomicsAnnotationHubData package:
- Please allow up to 24 hours (and sometimes 48 hours) for your latest push to git@git.bioconductor.org:packages/ProteomicsAnnotationHubData.git to
reflect on this report. See How and When does the builder pull? When will my changes propagate? here for more information.
- Make sure to use the following settings in order to reproduce any error or warning you see on this page.

raw results

Package 1476/2083HostnameOS / ArchINSTALLBUILDCHECKBUILD BIN
ProteomicsAnnotationHubData 1.24.0  (landing page)
Laurent Gatto
Snapshot Date: 2021-12-05 01:55:05 -0500 (Sun, 05 Dec 2021)
git_url: https://git.bioconductor.org/packages/ProteomicsAnnotationHubData
git_branch: RELEASE_3_14
git_last_commit: b8e3a6d
git_last_commit_date: 2021-10-26 12:22:30 -0500 (Tue, 26 Oct 2021)
nebbiolo2Linux (Ubuntu 20.04.3 LTS) / x86_64  OK    ERROR  skipped
tokay2Windows Server 2012 R2 Standard / x64  OK    ERROR  skippedskipped
machv2macOS 10.14.6 Mojave / x86_64  OK    ERROR  skippedskipped

Summary

Package: ProteomicsAnnotationHubData
Version: 1.24.0
Command: C:\cygwin\bin\curl.exe -O http://155.52.207.166/BBS/3.14/bioc/src/contrib/ProteomicsAnnotationHubData_1.24.0.tar.gz && rm -rf ProteomicsAnnotationHubData.buildbin-libdir && mkdir ProteomicsAnnotationHubData.buildbin-libdir && C:\Users\biocbuild\bbs-3.14-bioc\R\bin\R.exe CMD INSTALL --merge-multiarch --build --library=ProteomicsAnnotationHubData.buildbin-libdir ProteomicsAnnotationHubData_1.24.0.tar.gz && C:\Users\biocbuild\bbs-3.14-bioc\R\bin\R.exe CMD INSTALL ProteomicsAnnotationHubData_1.24.0.zip && rm ProteomicsAnnotationHubData_1.24.0.tar.gz ProteomicsAnnotationHubData_1.24.0.zip
StartedAt: 2021-12-05 07:23:52 -0500 (Sun, 05 Dec 2021)
EndedAt: 2021-12-05 07:24:56 -0500 (Sun, 05 Dec 2021)
EllapsedTime: 64.1 seconds
RetCode: 0
Status:   OK  

Command output

##############################################################################
##############################################################################
###
### Running command:
###
###   C:\cygwin\bin\curl.exe -O http://155.52.207.166/BBS/3.14/bioc/src/contrib/ProteomicsAnnotationHubData_1.24.0.tar.gz && rm -rf ProteomicsAnnotationHubData.buildbin-libdir && mkdir ProteomicsAnnotationHubData.buildbin-libdir && C:\Users\biocbuild\bbs-3.14-bioc\R\bin\R.exe CMD INSTALL --merge-multiarch --build --library=ProteomicsAnnotationHubData.buildbin-libdir ProteomicsAnnotationHubData_1.24.0.tar.gz && C:\Users\biocbuild\bbs-3.14-bioc\R\bin\R.exe CMD INSTALL ProteomicsAnnotationHubData_1.24.0.zip && rm ProteomicsAnnotationHubData_1.24.0.tar.gz ProteomicsAnnotationHubData_1.24.0.zip
###
##############################################################################
##############################################################################


  % Total    % Received % Xferd  Average Speed   Time    Time     Time  Current
                                 Dload  Upload   Total   Spent    Left  Speed

  0     0    0     0    0     0      0      0 --:--:-- --:--:-- --:--:--     0
100 20337  100 20337    0     0   172k      0 --:--:-- --:--:-- --:--:--  174k

install for i386

* installing *source* package 'ProteomicsAnnotationHubData' ...
** using staged installation
** R
** inst
** byte-compile and prepare package for lazy loading
** help
*** installing help indices
  converting help for package 'ProteomicsAnnotationHubData'
    finding HTML links ... done
    PAHD-class                              html  
    PAHD                                    html  
    ProteomicsAnnotationHubData             html  
    identicalRemLoc                         html  
    makeAnnotationHubMetadata               html  
    readPahdFiles                           html  
    writePahdTemplate                       html  
** building package indices
** installing vignettes
** testing if installed package can be loaded from temporary location
** testing if installed package can be loaded from final location
** testing if installed package keeps a record of temporary installation path

install for x64

* installing *source* package 'ProteomicsAnnotationHubData' ...
** testing if installed package can be loaded
* MD5 sums
packaged installation of 'ProteomicsAnnotationHubData' as ProteomicsAnnotationHubData_1.24.0.zip
* DONE (ProteomicsAnnotationHubData)
* installing to library 'C:/Users/biocbuild/bbs-3.14-bioc/R/library'
package 'ProteomicsAnnotationHubData' successfully unpacked and MD5 sums checked