Back to Multiple platform build/check report for BioC 3.14
ABCDEFGHIJKLMNO[P]QRSTUVWXYZ

This page was generated on 2021-12-06 13:06:09 -0500 (Mon, 06 Dec 2021).

INSTALL results for ProteomicsAnnotationHubData on machv2

To the developers/maintainers of the ProteomicsAnnotationHubData package:
- Please allow up to 24 hours (and sometimes 48 hours) for your latest push to git@git.bioconductor.org:packages/ProteomicsAnnotationHubData.git to
reflect on this report. See How and When does the builder pull? When will my changes propagate? here for more information.
- Make sure to use the following settings in order to reproduce any error or warning you see on this page.

raw results

Package 1476/2083HostnameOS / ArchINSTALLBUILDCHECKBUILD BIN
ProteomicsAnnotationHubData 1.24.0  (landing page)
Laurent Gatto
Snapshot Date: 2021-12-05 01:55:05 -0500 (Sun, 05 Dec 2021)
git_url: https://git.bioconductor.org/packages/ProteomicsAnnotationHubData
git_branch: RELEASE_3_14
git_last_commit: b8e3a6d
git_last_commit_date: 2021-10-26 12:22:30 -0500 (Tue, 26 Oct 2021)
nebbiolo2Linux (Ubuntu 20.04.3 LTS) / x86_64  OK    ERROR  skipped
tokay2Windows Server 2012 R2 Standard / x64  OK    ERROR  skippedskipped
machv2macOS 10.14.6 Mojave / x86_64  OK    ERROR  skippedskipped

Summary

Package: ProteomicsAnnotationHubData
Version: 1.24.0
Command: /Library/Frameworks/R.framework/Resources/bin/R CMD INSTALL ProteomicsAnnotationHubData
StartedAt: 2021-12-05 05:06:08 -0500 (Sun, 05 Dec 2021)
EndedAt: 2021-12-05 05:07:04 -0500 (Sun, 05 Dec 2021)
EllapsedTime: 56.3 seconds
RetCode: 0
Status:   OK  

Command output

##############################################################################
##############################################################################
###
### Running command:
###
###   /Library/Frameworks/R.framework/Resources/bin/R CMD INSTALL ProteomicsAnnotationHubData
###
##############################################################################
##############################################################################


* installing to library ‘/Library/Frameworks/R.framework/Versions/4.1/Resources/library’
* installing *source* package ‘ProteomicsAnnotationHubData’ ...
** using staged installation
** R
** inst
** byte-compile and prepare package for lazy loading
** help
*** installing help indices
** building package indices
** installing vignettes
** testing if installed package can be loaded from temporary location
** testing if installed package can be loaded from final location
** testing if installed package keeps a record of temporary installation path
* DONE (ProteomicsAnnotationHubData)