Back to Multiple platform build/check report for BioC 3.18:   simplified   long
ABCDEFGHIJKLMNO[P]QRSTUVWXYZ

This page was generated on 2024-03-29 11:37:08 -0400 (Fri, 29 Mar 2024).

HostnameOSArch (*)R versionInstalled pkgs
nebbiolo2Linux (Ubuntu 22.04.3 LTS)x86_644.3.3 (2024-02-29) -- "Angel Food Cake" 4669
palomino4Windows Server 2022 Datacenterx644.3.3 (2024-02-29 ucrt) -- "Angel Food Cake" 4404
merida1macOS 12.7.1 Montereyx86_644.3.3 (2024-02-29) -- "Angel Food Cake" 4427
Click on any hostname to see more info about the system (e.g. compilers)      (*) as reported by 'uname -p', except on Windows and Mac OS X

Package 1600/2266HostnameOS / ArchINSTALLBUILDCHECKBUILD BIN
Prostar 1.34.6  (landing page)
Samuel Wieczorek
Snapshot Date: 2024-03-27 14:05:05 -0400 (Wed, 27 Mar 2024)
git_url: https://git.bioconductor.org/packages/Prostar
git_branch: RELEASE_3_18
git_last_commit: ec70df3
git_last_commit_date: 2024-02-08 22:22:59 -0400 (Thu, 08 Feb 2024)
nebbiolo2Linux (Ubuntu 22.04.3 LTS) / x86_64  OK    OK    WARNINGS  UNNEEDED, same version is already published
palomino4Windows Server 2022 Datacenter / x64  OK    OK    WARNINGS    OK  UNNEEDED, same version is already published
merida1macOS 12.7.1 Monterey / x86_64  OK    OK    WARNINGS    OK  UNNEEDED, same version is already published
kjohnson1macOS 13.6.1 Ventura / arm64see weekly results here

BUILD BIN results for Prostar on palomino4


To the developers/maintainers of the Prostar package:
- Allow up to 24 hours (and sometimes 48 hours) for your latest push to git@git.bioconductor.org:packages/Prostar.git to reflect on this report. See Troubleshooting Build Report for more information.
- Use the following Renviron settings to reproduce errors and warnings.
- If 'R CMD check' started to fail recently on the Linux builder(s) over a missing dependency, add the missing dependency to 'Suggests:' in your DESCRIPTION file. See Renviron.bioc for more information.

raw results


Summary

Package: Prostar
Version: 1.34.6
Command: rm -rf Prostar.buildbin-libdir && mkdir Prostar.buildbin-libdir && F:\biocbuild\bbs-3.18-bioc\R\bin\R.exe CMD INSTALL --build --library=Prostar.buildbin-libdir Prostar_1.34.6.tar.gz
StartedAt: 2024-03-28 07:31:23 -0400 (Thu, 28 Mar 2024)
EndedAt: 2024-03-28 07:31:53 -0400 (Thu, 28 Mar 2024)
EllapsedTime: 29.5 seconds
RetCode: 0
Status:   OK  
PackageFile: Prostar_1.34.6.zip
PackageFileSize: 3.144 MiB

Command output

##############################################################################
##############################################################################
###
### Running command:
###
###   rm -rf Prostar.buildbin-libdir && mkdir Prostar.buildbin-libdir && F:\biocbuild\bbs-3.18-bioc\R\bin\R.exe CMD INSTALL --build --library=Prostar.buildbin-libdir Prostar_1.34.6.tar.gz
###
##############################################################################
##############################################################################


* installing *source* package 'Prostar' ...
** using staged installation
** R
** inst
** byte-compile and prepare package for lazy loading
** help
*** installing help indices
** building package indices
** installing vignettes
** testing if installed package can be loaded from temporary location
** testing if installed package can be loaded from final location
** testing if installed package keeps a record of temporary installation path
* MD5 sums
packaged installation of 'Prostar' as Prostar_1.34.6.zip
* DONE (Prostar)