Back to Multiple platform build/check report for BioC 3.12
ABCDEFGHIJKLMNO[P]QRSTUVWXYZ

BUILD report for Prize on malbec1

This page was generated on 2021-01-19 11:52:28 -0500 (Tue, 19 Jan 2021).

TO THE DEVELOPERS/MAINTAINERS OF THE Prize PACKAGE: Please make sure to use the following settings in order to reproduce any error or warning you see on this page.
Package 1385/1974HostnameOS / ArchINSTALLBUILDCHECKBUILD BIN
Prize 1.20.0
Daryanaz Dargahi
Snapshot Date: 2021-01-18 14:42:24 -0500 (Mon, 18 Jan 2021)
URL: https://git.bioconductor.org/packages/Prize
Branch: RELEASE_3_12
Last Commit: 278a85d
Last Changed Date: 2020-10-27 11:06:15 -0500 (Tue, 27 Oct 2020)
malbec1 Linux (Ubuntu 18.04.5 LTS) / x86_64  OK [ OK ] ERROR 
nebbiolo1 Linux (Ubuntu 20.04.1 LTS) / x86_64  OK  OK  ERROR 
tokay1 Windows Server 2012 R2 Standard / x64  OK  OK  ERROR  OK 
merida1 macOS 10.14.6 Mojave / x86_64  OK  OK  ERROR  OK 

Summary

Package: Prize
Version: 1.20.0
Command: /home/biocbuild/bbs-3.12-bioc/R/bin/R CMD build --keep-empty-dirs --no-resave-data Prize
StartedAt: 2021-01-18 21:35:42 -0500 (Mon, 18 Jan 2021)
EndedAt: 2021-01-18 21:36:01 -0500 (Mon, 18 Jan 2021)
EllapsedTime: 19.7 seconds
RetCode: 0
Status:  OK 
PackageFile: Prize_1.20.0.tar.gz
PackageFileSize: 227.9 KiB

Command output

##############################################################################
##############################################################################
###
### Running command:
###
###   /home/biocbuild/bbs-3.12-bioc/R/bin/R CMD build --keep-empty-dirs --no-resave-data Prize
###
##############################################################################
##############################################################################


* checking for file ‘Prize/DESCRIPTION’ ... OK
* preparing ‘Prize’:
* checking DESCRIPTION meta-information ... OK
* installing the package to build vignettes
* creating vignettes ... OK
* checking for LF line-endings in source and make files and shell scripts
* checking for empty or unneeded directories
* building ‘Prize_1.20.0.tar.gz’