Name | Last modified | Size | Description | |
---|---|---|---|---|
Parent Directory | - | |||
buildbin-out.txt | 24-Jul-2024 22:06 | 1.2K | ||
buildbin-summary.dcf | 24-Jul-2024 22:06 | 542 | ||
buildsrc-out.txt | 24-Jul-2024 22:06 | 887 | ||
buildsrc-summary.dcf | 24-Jul-2024 22:06 | 434 | ||
checksrc-out.txt | 24-Jul-2024 22:06 | 6.4K | ||
checksrc-summary.dcf | 24-Jul-2024 22:06 | 453 | ||
install-out.txt | 24-Jul-2024 22:06 | 1.0K | ||
install-summary.dcf | 24-Jul-2024 22:06 | 273 | ||