Index of /checkResults/release/bioc-LATEST/Pigengene/raw-results/kunpeng2

[ICO]NameLast modifiedSizeDescription

[DIR]Parent Directory  -  
[TXT]buildsrc-out.txt03-Nov-2023 00:41 871  
[   ]buildsrc-summary.dcf03-Nov-2023 00:41 418  
[TXT]checksrc-out.txt03-Nov-2023 00:41 4.6K 
[   ]checksrc-summary.dcf03-Nov-2023 00:41 426  
[TXT]install-out.txt03-Nov-2023 00:41 954  
[   ]install-summary.dcf03-Nov-2023 00:41 257