Back to Multiple platform build/check report for BioC 3.17:   simplified   long
ABCDEFGHIJKLMNO[P]QRSTUVWXYZ

This page was generated on 2023-09-23 11:35:14 -0400 (Sat, 23 Sep 2023).

HostnameOSArch (*)R versionInstalled pkgs
nebbiolo1Linux (Ubuntu 22.04.2 LTS)x86_644.3.1 (2023-06-16) -- "Beagle Scouts" 4625
palomino3Windows Server 2022 Datacenterx644.3.1 (2023-06-16 ucrt) -- "Beagle Scouts" 4378
merida1macOS 12.6.4 Montereyx86_644.3.1 (2023-06-16) -- "Beagle Scouts" 4394
Click on any hostname to see more info about the system (e.g. compilers)      (*) as reported by 'uname -p', except on Windows and Mac OS X

Package 1521/2230HostnameOS / ArchINSTALLBUILDCHECKBUILD BIN
Pigengene 1.26.0  (landing page)
Habil Zare
Snapshot Date: 2023-09-22 14:00:14 -0400 (Fri, 22 Sep 2023)
git_url: https://git.bioconductor.org/packages/Pigengene
git_branch: RELEASE_3_17
git_last_commit: ed5b2c2
git_last_commit_date: 2023-04-25 10:47:16 -0400 (Tue, 25 Apr 2023)
nebbiolo1Linux (Ubuntu 22.04.2 LTS) / x86_64  OK    OK    OK  UNNEEDED, same version is already published
palomino3Windows Server 2022 Datacenter / x64  OK    OK    OK    OK  UNNEEDED, same version is already published
merida1macOS 12.6.4 Monterey / x86_64  OK    OK    OK    OK  UNNEEDED, same version is already published

CHECK results for Pigengene on nebbiolo1


To the developers/maintainers of the Pigengene package:
- Allow up to 24 hours (and sometimes 48 hours) for your latest push to git@git.bioconductor.org:packages/Pigengene.git to reflect on this report. See Troubleshooting Build Report for more information.
- Use the following Renviron settings to reproduce errors and warnings.
- If 'R CMD check' started to fail recently on the Linux builder(s) over a missing dependency, add the missing dependency to 'Suggests:' in your DESCRIPTION file. See Renviron.bioc for more information.

raw results


Summary

Package: Pigengene
Version: 1.26.0
Command: /home/biocbuild/bbs-3.17-bioc/R/bin/R CMD check --install=check:Pigengene.install-out.txt --library=/home/biocbuild/bbs-3.17-bioc/R/site-library --timings Pigengene_1.26.0.tar.gz
StartedAt: 2023-09-23 00:14:40 -0400 (Sat, 23 Sep 2023)
EndedAt: 2023-09-23 00:27:16 -0400 (Sat, 23 Sep 2023)
EllapsedTime: 756.0 seconds
RetCode: 0
Status:   OK  
CheckDir: Pigengene.Rcheck
Warnings: 0

Command output

##############################################################################
##############################################################################
###
### Running command:
###
###   /home/biocbuild/bbs-3.17-bioc/R/bin/R CMD check --install=check:Pigengene.install-out.txt --library=/home/biocbuild/bbs-3.17-bioc/R/site-library --timings Pigengene_1.26.0.tar.gz
###
##############################################################################
##############################################################################


* using log directory ‘/home/biocbuild/bbs-3.17-bioc/meat/Pigengene.Rcheck’
* using R version 4.3.1 (2023-06-16)
* using platform: x86_64-pc-linux-gnu (64-bit)
* R was compiled by
    gcc (Ubuntu 11.3.0-1ubuntu1~22.04.1) 11.3.0
    GNU Fortran (Ubuntu 11.3.0-1ubuntu1~22.04.1) 11.3.0
* running under: Ubuntu 22.04.3 LTS
* using session charset: UTF-8
* checking for file ‘Pigengene/DESCRIPTION’ ... OK
* checking extension type ... Package
* this is package ‘Pigengene’ version ‘1.26.0’
* checking package namespace information ... OK
* checking package dependencies ... OK
* checking if this is a source package ... OK
* checking if there is a namespace ... OK
* checking for hidden files and directories ... OK
* checking for portable file names ... OK
* checking for sufficient/correct file permissions ... OK
* checking whether package ‘Pigengene’ can be installed ... OK
* checking installed package size ... OK
* checking package directory ... OK
* checking ‘build’ directory ... OK
* checking DESCRIPTION meta-information ... OK
* checking top-level files ... OK
* checking for left-over files ... OK
* checking index information ... OK
* checking package subdirectories ... OK
* checking R files for non-ASCII characters ... OK
* checking R files for syntax errors ... OK
* checking whether the package can be loaded ... OK
* checking whether the package can be loaded with stated dependencies ... OK
* checking whether the package can be unloaded cleanly ... OK
* checking whether the namespace can be loaded with stated dependencies ... OK
* checking whether the namespace can be unloaded cleanly ... OK
* checking loading without being on the library search path ... OK
* checking dependencies in R code ... NOTE
'library' or 'require' calls in package code:
  ‘AnnotationDbi’ ‘biomaRt’ ‘energy’ ‘org.Hs.eg.db’ ‘org.Mm.eg.db’
  Please use :: or requireNamespace() instead.
  See section 'Suggested packages' in the 'Writing R Extensions' manual.
* checking S3 generic/method consistency ... OK
* checking replacement functions ... OK
* checking foreign function calls ... OK
* checking R code for possible problems ... NOTE
Found the following possibly unsafe calls:
File ‘Pigengene/R/bn.calculation.R’:
  assignInNamespace("supported.clusters", fixArgs, "bnlearn")

compute.pigengene: no visible global function definition for ‘prcomp’
one.step.pigengene: no visible binding for global variable
  ‘org.Hs.eg.db’
Undefined global functions or variables:
  org.Hs.eg.db prcomp
Consider adding
  importFrom("stats", "prcomp")
to your NAMESPACE file.
* checking Rd files ... NOTE
checkRd: (-1) get.enriched.pw.Rd:71: Escaped LaTeX specials: \_
* checking Rd metadata ... OK
* checking Rd cross-references ... OK
* checking for missing documentation entries ... OK
* checking for code/documentation mismatches ... OK
* checking Rd \usage sections ... OK
* checking Rd contents ... OK
* checking for unstated dependencies in examples ... OK
* checking contents of ‘data’ directory ... OK
* checking data for non-ASCII characters ... OK
* checking data for ASCII and uncompressed saves ... OK
* checking files in ‘vignettes’ ... OK
* checking examples ... OK
Examples with CPU (user + system) or elapsed time > 5s
                     user system elapsed
one.step.pigengene 75.566  0.605  76.170
Pigengene-package  71.828  1.468  73.214
get.enriched.pw    65.621  4.092  69.753
module.heatmap     34.287  0.508  34.782
learn.bn           15.770  0.184  15.954
make.filter        15.009  0.208  15.218
apply.filter       13.702  0.176  13.878
determine.modules  13.372  0.044  13.417
wgcna.one.step     12.784  0.028  12.811
combine.networks   12.554  0.023  12.556
make.decision.tree  9.689  0.080   9.770
compact.tree        9.557  0.040   9.597
pigengene           6.209  0.164   6.373
plot.pigengene      5.929  0.064   5.993
compute.pigengene   5.696  0.164   5.860
gene.mapping        5.206  0.480  14.543
project.eigen       5.570  0.036   5.605
* checking for unstated dependencies in vignettes ... OK
* checking package vignettes in ‘inst/doc’ ... OK
* checking running R code from vignettes ...
  ‘Pigengene_inference.Rnw’... OK
 NONE
* checking re-building of vignette outputs ... OK
* checking PDF version of manual ... OK
* DONE

Status: 3 NOTEs
See
  ‘/home/biocbuild/bbs-3.17-bioc/meat/Pigengene.Rcheck/00check.log’
for details.



Installation output

Pigengene.Rcheck/00install.out

##############################################################################
##############################################################################
###
### Running command:
###
###   /home/biocbuild/bbs-3.17-bioc/R/bin/R CMD INSTALL Pigengene
###
##############################################################################
##############################################################################


* installing to library ‘/home/biocbuild/bbs-3.17-bioc/R/site-library’
* installing *source* package ‘Pigengene’ ...
** using staged installation
** R
** data
** inst
** byte-compile and prepare package for lazy loading
** help
*** installing help indices
** building package indices
** installing vignettes
** testing if installed package can be loaded from temporary location
** testing if installed package can be loaded from final location
** testing if installed package keeps a record of temporary installation path
* DONE (Pigengene)

Tests output


Example timings

Pigengene.Rcheck/Pigengene-Ex.timings

nameusersystemelapsed
Pigengene-package71.828 1.46873.214
aml0.1710.0000.156
apply.filter13.702 0.17613.878
balance0.3820.0680.450
calculate.beta0.7380.0080.745
check.nas0.0430.0000.043
check.pigengene.input0.0310.0120.042
combine.networks12.554 0.02312.556
compact.tree9.5570.0409.597
compute.pigengene5.6960.1645.860
dcor.matrix0.1220.0080.130
determine.modules13.372 0.04413.417
draw.bn0.0000.0000.001
eigengenes330.0770.0070.083
gene.mapping 5.206 0.48014.543
get.enriched.pw65.621 4.09269.753
get.fitted.leaf0.5110.0000.511
get.genes0.4690.0040.473
get.used.features0.4620.0080.470
learn.bn15.770 0.18415.954
make.decision.tree9.6890.0809.770
make.filter15.009 0.20815.218
mds0.0910.0000.091
message.if0.0000.0000.001
module.heatmap34.287 0.50834.782
one.step.pigengene75.566 0.60576.170
pheatmap.type0.1960.0040.199
pigengene6.2090.1646.373
plot.pigengene5.9290.0645.993
preds.at0.5710.0000.572
project.eigen5.5700.0365.605
pvalues.manova0.0670.0000.066
save.if0.8370.0000.836
wgcna.one.step12.784 0.02812.811