![]() | Name | Last modified | Size | Description |
---|---|---|---|---|
![]() | Parent Directory | - | ||
![]() | buildbin-out.txt | 19-Mar-2022 00:08 | 6.2K | |
![]() | buildbin-summary.dcf | 19-Mar-2022 00:08 | 482 | |
![]() | buildsrc-out.txt | 19-Mar-2022 00:08 | 813 | |
![]() | buildsrc-summary.dcf | 19-Mar-2022 00:08 | 430 | |
![]() | checksrc-out.txt | 19-Mar-2022 00:08 | 3.2K | |
![]() | checksrc-summary.dcf | 19-Mar-2022 00:08 | 431 | |
![]() | install-out.txt | 19-Mar-2022 00:08 | 6.3K | |
![]() | install-summary.dcf | 19-Mar-2022 00:08 | 257 | |