Name | Last modified | Size | Description | |
---|---|---|---|---|
Parent Directory | - | |||
buildbin-out.txt | 07-Mar-2024 01:37 | 1.3K | ||
buildbin-summary.dcf | 07-Mar-2024 01:37 | 485 | ||
buildsrc-out.txt | 15-Jun-2024 03:38 | 893 | ||
buildsrc-summary.dcf | 15-Jun-2024 03:38 | 353 | ||
checksrc-out.txt | 07-Mar-2024 01:37 | 3.3K | ||
checksrc-summary.dcf | 07-Mar-2024 01:37 | 433 | ||
install-out.txt | 15-Jun-2024 03:38 | 600 | ||
install-summary.dcf | 15-Jun-2024 03:38 | 260 | ||