Index of /checkResults/release/bioc-LATEST/Pi/raw-results/palomino3

[ICO]NameLast modifiedSizeDescription

[DIR]Parent Directory  -  
[TXT]buildbin-out.txt25-Jun-2022 01:06 1.3K 
[   ]buildbin-summary.dcf25-Jun-2022 01:06 482  
[TXT]buildsrc-out.txt25-Jun-2022 01:06 813  
[   ]buildsrc-summary.dcf25-Jun-2022 01:06 430  
[TXT]checksrc-out.txt25-Jun-2022 01:06 3.2K 
[   ]checksrc-summary.dcf25-Jun-2022 01:06 431  
[TXT]install-out.txt25-Jun-2022 01:06 1.2K 
[   ]install-summary.dcf25-Jun-2022 01:06 257