Name | Last modified | Size | Description | |
---|---|---|---|---|
Parent Directory | - | |||
install-summary.dcf | 18-Apr-2024 00:36 | 251 | ||
buildsrc-summary.dcf | 18-Apr-2024 00:36 | 322 | ||
checksrc-summary.dcf | 07-Mar-2024 01:33 | 400 | ||
install-out.txt | 18-Apr-2024 00:36 | 617 | ||
buildsrc-out.txt | 18-Apr-2024 00:36 | 846 | ||
checksrc-out.txt | 07-Mar-2024 01:33 | 3.4K | ||