Name | Last modified | Size | Description | |
---|---|---|---|---|
Parent Directory | - | |||
buildsrc-out.txt | 30-Mar-2024 00:36 | 845 | ||
buildsrc-summary.dcf | 30-Mar-2024 00:36 | 322 | ||
checksrc-out.txt | 07-Mar-2024 01:33 | 3.4K | ||
checksrc-summary.dcf | 07-Mar-2024 01:33 | 400 | ||
install-out.txt | 30-Mar-2024 00:36 | 617 | ||
install-summary.dcf | 30-Mar-2024 00:36 | 251 | ||