Index of /checkResults/release/bioc-LATEST/Pi/raw-results/nebbiolo1

[ICO]NameLast modifiedSizeDescription

[DIR]Parent Directory  -  
[TXT]buildsrc-out.txt02-Jul-2022 01:05 785  
[   ]buildsrc-summary.dcf02-Jul-2022 01:05 400  
[TXT]checksrc-out.txt02-Jul-2022 01:05 3.2K 
[   ]checksrc-summary.dcf02-Jul-2022 01:05 408  
[TXT]install-out.txt02-Jul-2022 01:05 1.2K 
[   ]install-summary.dcf02-Jul-2022 01:05 248