Index of /checkResults/release/bioc-LATEST/Pi/raw-results/merida1

[ICO]NameLast modifiedSizeDescription

[DIR]Parent Directory  -  
[   ]install-summary.dcf09-Aug-2022 02:20 258  
[TXT]install-out.txt09-Aug-2022 02:20 1.2K 
[   ]checksrc-summary.dcf09-Aug-2022 02:20 428  
[TXT]checksrc-out.txt09-Aug-2022 02:20 3.2K 
[   ]buildsrc-summary.dcf09-Aug-2022 02:20 411  
[TXT]buildsrc-out.txt09-Aug-2022 02:20 795  
[   ]buildbin-summary.dcf09-Aug-2022 02:20 497  
[TXT]buildbin-out.txt09-Aug-2022 02:20 1.4K