Index of /checkResults/release/bioc-LATEST/Pi/raw-results/merida1

[ICO]NameLast modifiedSizeDescription

[DIR]Parent Directory  -  
[TXT]buildbin-out.txt23-Jun-2022 01:08 1.4K 
[   ]buildbin-summary.dcf23-Jun-2022 01:08 496  
[TXT]buildsrc-out.txt25-Jun-2022 01:07 795  
[   ]buildsrc-summary.dcf25-Jun-2022 01:07 411  
[TXT]checksrc-out.txt25-Jun-2022 01:07 3.2K 
[   ]checksrc-summary.dcf25-Jun-2022 01:07 428  
[TXT]install-out.txt25-Jun-2022 01:07 1.2K 
[   ]install-summary.dcf25-Jun-2022 01:07 258