Index of /checkResults/release/bioc-LATEST/Pi/raw-results/lconway
Name
Last modified
Size
Description
Parent Directory
-
install-summary.dcf
19-May-2024 00:38
261
install-out.txt
19-May-2024 00:38
677
buildsrc-summary.dcf
19-May-2024 00:38
332
buildsrc-out.txt
19-May-2024 00:38
863