Name | Last modified | Size | Description | |
---|---|---|---|---|
Parent Directory | - | |||
buildbin-out.txt | 05-Mar-2024 01:37 | 1.4K | ||
buildbin-summary.dcf | 05-Mar-2024 01:37 | 500 | ||
buildsrc-out.txt | 05-Mar-2024 01:37 | 796 | ||
buildsrc-summary.dcf | 05-Mar-2024 01:37 | 412 | ||
checksrc-out.txt | 05-Mar-2024 01:37 | 3.4K | ||
checksrc-summary.dcf | 05-Mar-2024 01:37 | 430 | ||
install-out.txt | 05-Mar-2024 01:37 | 1.2K | ||
install-summary.dcf | 05-Mar-2024 01:37 | 259 | ||