Index of /checkResults/release/bioc-LATEST/Pi/raw-results
Name
Last modified
Size
Description
Parent Directory
-
riesling1/
19-Mar-2022 00:08
-
nebbiolo1/
24-May-2022 01:05
-
palomino3/
24-May-2022 01:06
-
info.dcf
24-May-2022 01:08
260
merida1/
24-May-2022 01:08
-