Index of /checkResults/release/bioc-LATEST/PhIPData/raw-results/palomino4

[ICO]NameLast modifiedSizeDescription

[DIR]Parent Directory  -  
[TXT]buildbin-out.txt23-Feb-2024 01:37 1.1K 
[   ]buildbin-summary.dcf23-Feb-2024 01:37 521  
[TXT]buildsrc-out.txt23-Feb-2024 01:37 881  
[   ]buildsrc-summary.dcf23-Feb-2024 01:37 454  
[TXT]checksrc-out.txt23-Feb-2024 01:37 3.2K 
[   ]checksrc-summary.dcf23-Feb-2024 01:37 451  
[TXT]install-out.txt23-Feb-2024 01:37 965  
[   ]install-summary.dcf23-Feb-2024 01:37 270