![]() | Name | Last modified | Size | Description |
---|---|---|---|---|
![]() | Parent Directory | - | ||
![]() | buildbin-out.txt | 23-Sep-2023 00:36 | 1.1K | |
![]() | buildbin-summary.dcf | 23-Sep-2023 00:36 | 518 | |
![]() | buildsrc-out.txt | 23-Sep-2023 00:36 | 880 | |
![]() | buildsrc-summary.dcf | 23-Sep-2023 00:36 | 452 | |
![]() | checksrc-out.txt | 23-Sep-2023 00:36 | 3.2K | |
![]() | checksrc-summary.dcf | 23-Sep-2023 00:36 | 449 | |
![]() | install-out.txt | 23-Sep-2023 00:36 | 965 | |
![]() | install-summary.dcf | 23-Sep-2023 00:36 | 269 | |