Index of /checkResults/release/bioc-LATEST/PhIPData/raw-results/nebbiolo2

[ICO]NameLast modifiedSizeDescription

[DIR]Parent Directory  -  
[TXT]buildsrc-out.txt02-Mar-2024 01:36 850  
[   ]buildsrc-summary.dcf02-Mar-2024 01:36 420  
[TXT]checksrc-out.txt02-Mar-2024 01:36 3.3K 
[   ]checksrc-summary.dcf02-Mar-2024 01:36 418  
[TXT]install-out.txt02-Mar-2024 01:36 955  
[   ]install-summary.dcf02-Mar-2024 01:36 261